BEGIN:VCALENDAR
VERSION:2.0
PRODID:-//tambours 3 rivieres - ECPv6.10.0//NONSGML v1.0//EN
CALSCALE:GREGORIAN
METHOD:PUBLISH
X-WR-CALNAME:tambours 3 rivieres
X-ORIGINAL-URL:https://tambours-3-rivieres.com
X-WR-CALDESC:Évènements pour tambours 3 rivieres
REFRESH-INTERVAL;VALUE=DURATION:PT1H
X-Robots-Tag:noindex
X-PUBLISHED-TTL:PT1H
BEGIN:VTIMEZONE
TZID:UTC
BEGIN:STANDARD
TZOFFSETFROM:+0000
TZOFFSETTO:+0000
TZNAME:UTC
DTSTART:20250101T000000
END:STANDARD
END:VTIMEZONE
BEGIN:VEVENT
DTSTART;TZID=UTC:20251205T093000
DTEND;TZID=UTC:20251207T173000
DTSTAMP:20260424T120326
CREATED:20241011T144010Z
LAST-MODIFIED:20241011T144010Z
UID:1352-1764927000-1765128600@tambours-3-rivieres.com
SUMMARY:Module 4 : séminaire\, le pouvoir personnel transgénérationel
DESCRIPTION:Ce module 4 qui me dit de te dire\, toi qui vibres à cet événement\, sache que si tu viens\, nous te montrerons le sentier de la Bonté et de la Beauté\, il n’y aura que toi qui seras dans quels souliers tu souhaites avancer.\nTu vas marcher sur ta dualitude\, tu sais cette attitude d’inclure toujours l’autre dans ta symétrie.\nLe Chamanisme\, cet état d’être\, cette voix et voie de l’amour à l’intérieur de toi et dans l’origine de ton temps.L’art de discuter avec tous (les éléments\, etc.)Le médiateur qui vie en toi\, L’humilité…Retournement de vous-même\, soit l’amour de votre puissance : Amour\, Sincérité\, Joie\, et Partage.Des Rituels Chamanique\, des pratiques aux tambours\, des outils\, vous allez expérimenter des techniques de soins\, un respect sacré et des libérations avec vos ancêtres (selon ce qui est prêt à l’être) et accueillir des guérisons personnelles.\nTarif 280 € les 3 jours\, hors hébergement.Hébergement fourni en supplément\, selon le nombre de participants.RÉSERVATION POSSIBLE après contact par mail : soniamarchand999@gmail.com ou mricordel44@gmail.comou par téléphone  06 60 88 30 21 /murielle 06 69 76 92 99Pierrick 07 62 21 93 02
URL:https://tambours-3-rivieres.com/event/module-4-seminaire-le-pouvoir-personnel-transgenerationel-4/
LOCATION:Beslé S/Vilaine\, 102 domaine de Beaulieu\, Guéméné Penfao\, 44290\, France
ATTACH;FMTTYPE=image/jpeg:https://tambours-3-rivieres.com/wp-content/uploads/2024/10/le-pouvoir-personnel.jpg
END:VEVENT
END:VCALENDAR